BEGIN:VCALENDAR
VERSION:2.0
PRODID:icalendar-ruby
CALSCALE:GREGORIAN
METHOD:PUBLISH
BEGIN:VEVENT
DTSTAMP:20260422T122244Z
UID:5-395334@theapostolic166.tithelysetup5.com
DTSTART:20261025T173000Z
DTEND:20261025T183000Z
CLASS:PUBLIC
CREATED:20260422T045353
DESCRIPTION:Sunday Worship
LAST-MODIFIED:20260422T045353
LOCATION:
SUMMARY:Sunday Worship
URL;VALUE=URI:https://tapchurch.org/events/sunday-worship/2026-10-25
END:VEVENT
END:VCALENDAR
